BEGIN:VCALENDAR
VERSION:2.0
PRODID:icalendar-ruby
CALSCALE:GREGORIAN
METHOD:PUBLISH
BEGIN:VEVENT
DTSTAMP:20260423T015357Z
UID:1047-4409428@northwood-united.org
DTSTART:20261017T153000Z
DTEND:20261017T170000Z
CLASS:PUBLIC
CREATED:20260422T173510
DESCRIPTION:Need help with feeling good mentally and physically? We have a 
 group for you! Formerly known as "Weight Watchers"\, Members First is held
  at Northwood Saturday mornings from 8:30 to 10:00. We can help with why 
 it’s important to eat healthy and having activity in your day to day for
  mental health. Come join us for a trial workshop and see for yourself how
  important community is to feel good and be with fun loving and caring gro
 up. First workshop is a free one\, after that is $25.00 a month.
LAST-MODIFIED:20260422T173510
LOCATION:Northwood United Church Fireside room
SUMMARY:Members First
URL;VALUE=URI:https://www.northwood-united.org/events/members-first/2026-10
 -17
ATTACH;FILENAME=MFgroupAD even smaller.jpg;FMTTYPE=image/jpeg:https://dq5pw
 pg1q8ru0.cloudfront.net/2024/06/18/19/18/48/10d0d71b-3e29-4991-af13-5eb1cf
 83c167/MFgroupAD%20even%20smaller.jpg
END:VEVENT
END:VCALENDAR
