BEGIN:VCALENDAR
VERSION:2.0
PRODID:icalendar-ruby
CALSCALE:GREGORIAN
METHOD:PUBLISH
BEGIN:VEVENT
DTSTAMP:20260422T083659Z
UID:1082-4397327@northwood-united.org
DTSTART:20260922T010000Z
DTEND:20260922T020000Z
CLASS:PUBLIC
CREATED:20260421T161037
DESCRIPTION:Evening Bible Study – A Gathering in Christian Fellowship\nMo
 ndays at 6:00 PM Fireside Room\, Northwood United Church \nTransportation 
 available upon request\nYou are warmly invited to join our welcoming fello
 wship group as we journey together through the upcoming weekly scripture r
 eadings. Through thoughtful discussion and shared reflection\, we seek to 
 deepen our understanding of the Sunday sermon and nurture our spiritual gr
 owth.\nRooted in Christian love\, we gather to support\, strengthen\, and 
 encourage one another in faith: \n“For where two or three are gathered i
 n my name\, I am there among them.” – Matthew 18:20\nWhether you are n
 ew to Bible study or returning with experience\, all are welcome. Come as 
 you are\, and be part of a community that learns\, grows\, and walks toget
 her in faith.
LAST-MODIFIED:20260421T161037
LOCATION:Northwood United Church
SUMMARY:Evening Bible Study
URL;VALUE=URI:https://www.northwood-united.org/events/evening-bible-study--
 1082/2026-09-21
ATTACH;FILENAME=Bible-study.jpg;FMTTYPE=image/jpeg:https://dq5pwpg1q8ru0.cl
 oudfront.net/2025/09/16/06/54/37/9b9d326b-ff5a-4569-ae83-258f08d5b5bf/Bibl
 e-study.jpg
END:VEVENT
END:VCALENDAR
