BEGIN:VCALENDAR
VERSION:2.0
PRODID:icalendar-ruby
CALSCALE:GREGORIAN
METHOD:PUBLISH
BEGIN:VEVENT
DTSTAMP:20260423T012650Z
UID:1122-4409676@northwood-united.org
DTSTART:20260910T190000Z
DTEND:20260910T200000Z
CLASS:PUBLIC
CREATED:20260422T173510
DESCRIPTION: It’s a Good Day to Be Sober Group \nAn Open Meeting of Alcoh
 olics Anonymous\nAlcoholics Anonymous provides a Design for Living — a s
 piritual and practical approach for those seeking freedom from addiction. 
 The "It’s a Good Day to Be Sober" group is an inclusive\, open AA meetin
 g where people gather in a safe and encouraging environment to share their
  experiences\, strength\, and hope.\nWhether you're just starting your jou
 rney or continuing on the path of recovery\, you're not alone. This group 
 is here for anyone wanting to change their life — and in doing so\, help
  heal the lives of those around them.\n For meeting details and more infor
 mation\, visit Vancouver AA
LAST-MODIFIED:20260422T173510
LOCATION:Northwood United Church
SUMMARY:Alcoholics Anonymous Meeting
URL;VALUE=URI:https://www.northwood-united.org/events/alcoholics-anonymous-
 meeting/2026-09-10
ATTACH;FILENAME=AA.JPG;FMTTYPE=image/jpeg:https://dq5pwpg1q8ru0.cloudfront.
 net/2025/10/06/20/11/59/681b03be-85a8-40bc-bac3-d115b4c48b67/AA.JPG
END:VEVENT
END:VCALENDAR
